BEGIN:VCALENDAR
VERSION:2.0
PRODID:icalendar-ruby
CALSCALE:GREGORIAN
METHOD:PUBLISH
BEGIN:VEVENT
DTSTAMP:20260426T011928Z
UID:6-310185@fairhavenfoursquare.com
DTSTART:20260928T000000Z
DTEND:20260928T013000Z
CLASS:PUBLIC
CREATED:20260425T180727
DESCRIPTION:Join us as we worship through song and study of God's word and 
 share a meal together.
LAST-MODIFIED:20260425T180727
LOCATION:FFC
SUMMARY:Sunday Worship
URL;VALUE=URI:https://www.fairhavenfoursquare.com/events/sunday-worship/202
 6-09-27
ATTACH;FILENAME=lightstock_354968_small_tamara_krantz.jpg;FMTTYPE=image/jpe
 g:https://dq5pwpg1q8ru0.cloudfront.net/2024/03/04/17/55/05/adc20b7a-f484-4
 a79-bcf7-9d87461548e1/lightstock_354968_small_tamara_krantz.jpg
END:VEVENT
END:VCALENDAR
