BEGIN:VCALENDAR
VERSION:2.0
PRODID:icalendar-ruby
CALSCALE:GREGORIAN
METHOD:PUBLISH
BEGIN:VEVENT
DTSTAMP:20260424T140846Z
UID:16-308186@fairhavenfoursquare.com
DTSTART:20260502T173000Z
DTEND:20260502T190000Z
CLASS:PUBLIC
CREATED:20260423T195348
DESCRIPTION:Anyone can join Tami on this first hike of the season. Just sho
 w up at 10:30 AM at Arroyo Park.  This is a moderate hike through Arroyo 
 Park to the Falls. A little over 2 miles out and back. Approx. 400 ft. ele
 vation gain.\nDIRECTIONS FROM Fairhaven\n\nFrom Fairhaven\, head south on 
 12th street.\nContinue on as the road becomes Chuckanut Dr/ Hwy 11\nTurn l
 eft onto Old Samish Rd\nYou will see a small lot on the right. Parking is 
 limited so car pool if you can.\n\n 
LAST-MODIFIED:20260423T195348
LOCATION:Arroyo Park
SUMMARY:FFC Hike
URL;VALUE=URI:https://www.fairhavenfoursquare.com/events/ffc-hike/2026-05-0
 2
ATTACH;FILENAME=IMG_2806.JPG;FMTTYPE=image/jpeg:https://dq5pwpg1q8ru0.cloud
 front.net/2026/04/24/02/17/12/c5098d09-3fb9-472a-9707-413848642b0e/IMG_280
 6.JPG
END:VEVENT
END:VCALENDAR
